BEGIN:VCALENDAR
VERSION:2.0
PRODID:-//Sabre//Sabre VObject 4.5.8//EN
CALSCALE:GREGORIAN
BEGIN:VEVENT
UID:sabre-vobject-9a8f2f17-c433-46e6-8292-c7f88db8fa9f
DTSTAMP:20260421T113828Z
SUMMARY:Cosmetic Business 2026
DESCRIPTION:München\n10.-11. Juni 2026
LOCATION:München
DTSTART:20260610T120000Z
DTEND:20260611T120000Z
END:VEVENT
END:VCALENDAR
