BEGIN:VCALENDAR
VERSION:2.0
PRODID:-//Sabre//Sabre VObject 4.5.8//EN
CALSCALE:GREGORIAN
BEGIN:VEVENT
UID:sabre-vobject-5f9ad0cb-6c6f-462b-99be-60f3e5aa6b31
DTSTAMP:20260421T114132Z
SUMMARY:PLMA Amsterdam 2026
DESCRIPTION:Amsterdam\n19.-20. Mai 2026
LOCATION:Amsterdam
DTSTART:20260519T120000Z
DTEND:20260520T120000Z
END:VEVENT
END:VCALENDAR
