BEGIN:VCALENDAR
VERSION:2.0
PRODID:-//Sabre//Sabre VObject 4.5.8//EN
CALSCALE:GREGORIAN
BEGIN:VEVENT
UID:sabre-vobject-e3bd74c6-cbe6-4c1b-930e-bf7ce24440c3
DTSTAMP:20260421T113723Z
SUMMARY:Paris Packaging Week 2026
DESCRIPTION:Paris\n05.-06. Februar 2026
LOCATION:Paris
DTSTART:20260205T120000Z
DTEND:20260206T120000Z
END:VEVENT
END:VCALENDAR
