BEGIN:VCALENDAR
VERSION:2.0
PRODID:-//Sabre//Sabre VObject 4.5.8//EN
CALSCALE:GREGORIAN
BEGIN:VEVENT
UID:sabre-vobject-98b333bf-226a-4d26-a833-4bad4a4fddb9
DTSTAMP:20260421T113953Z
SUMMARY:Asphaltseminar 2026
DESCRIPTION:Willingen\n24.-26. März 2026
LOCATION:Willingen
DTSTART:20260324T120000Z
DTEND:20260326T120000Z
END:VEVENT
END:VCALENDAR
